BEGIN:VCALENDAR
VERSION:2.0
PRODID:-//Shaw Wines - ECPv5.4.0//NONSGML v1.0//EN
CALSCALE:GREGORIAN
METHOD:PUBLISH
X-WR-CALNAME:Shaw Wines
X-ORIGINAL-URL:https://shawwines.com.au
X-WR-CALDESC:Events for Shaw Wines
BEGIN:VTIMEZONE
TZID:Australia/Sydney
BEGIN:STANDARD
TZOFFSETFROM:+1100
TZOFFSETTO:+1000
TZNAME:AEST
DTSTART:20210403T160000
END:STANDARD
BEGIN:DAYLIGHT
TZOFFSETFROM:+1000
TZOFFSETTO:+1100
TZNAME:AEDT
DTSTART:20211002T160000
END:DAYLIGHT
END:VTIMEZONE
BEGIN:VEVENT
DTSTART;TZID=Australia/Sydney:20210904T100000
DTEND;TZID=Australia/Sydney:20210919T170000
DTSTAMP:20210225T185019
CREATED:20191219T024154Z
LAST-MODIFIED:20200916T042650Z
UID:11486-1630749600-1632070800@shawwines.com.au
SUMMARY:Sculpture@Shaw
DESCRIPTION:Sculpture@Shaw is a biennial exhibition of sculptures by local and internationally renowned artists set in the paddocks at Shaw Wines in Murrumbateman\, NSW. The event will run over two weeks. The first exhibition will be held from 4 to 19 September 2021. The stunning location of Shaw Wines in springtime ensures a beautiful backdrop for a diverse range of sculptures. There will also be an exhibition of small-scale works on display around the terrace of the Shaw Wines Cellar Door. This adds another dimension for visitors to enjoy. The venue provides world-class amenities for the visitor\, stunning rural vistas\, access to great wine\, dining options and is only a 30-minute drive from Canberra. During the weekends there will be plenty on offer with food stalls\, entertainment and helicopter joyrides. This family-friendly event is a great day out for everyone. This event is also dog-friendly where visitors can wander through the paddock with their pets on a leash.
URL:https://shawwines.com.au/event/sculptureshaw/
ATTACH;FMTTYPE=image/jpeg:https://shawwines.com.au/wp-content/uploads/2019/12/IMG_2385-scaled-e1576717353128.jpeg
END:VEVENT
END:VCALENDAR